BEGIN:VCALENDAR
VERSION:2.0
PRODID:-//specialolympicsnd.org//NONSGML kigkonsult.se iCalcreator 2.30.10/
 /
CALSCALE:GREGORIAN
METHOD:PUBLISH
UID:e015c4f1-5ea7-4ba9-b580-3bab4267b197
X-WR-CALDESC:Learn about internships available through Special Olympics Nor
 th Dakota
X-WR-RELCALID:783364cde147d9b065b09d85771cfd67
X-WR-TIMEZONE:America/Chicago
BEGIN:VTIMEZONE
TZID:America/Chicago
BEGIN:STANDARD
TZNAME:CST
DTSTART:20211107T020000
TZOFFSETFROM:-0500
TZOFFSETTO:-0600
RDATE:20221106T020000
RDATE:20231105T020000
END:STANDARD
BEGIN:DAYLIGHT
TZNAME:CDT
DTSTART:20220313T020000
TZOFFSETFROM:-0600
TZOFFSETTO:-0500
RDATE:20230312T020000
RDATE:20240310T020000
END:DAYLIGHT
END:VTIMEZONE
BEGIN:VEVENT
UID:5d5e43ce-18e2-43e9-90b1-20ea55b11f28
DTSTAMP:20260422T184830Z
DESCRIPTION:Learn about internships available through Special Olympics Nort
 h Dakota
DTSTART;TZID=America/Chicago:20220920T110000
DTEND;TZID=America/Chicago:20220920T160000
LOCATION:Alerus Center - Grand Forks
SUMMARY:UND Career Expo
END:VEVENT
END:VCALENDAR
