BEGIN:VCALENDAR
VERSION:2.0
PRODID:-//specialolympicsnd.org//NONSGML kigkonsult.se iCalcreator 2.30.10/
 /
CALSCALE:GREGORIAN
METHOD:PUBLISH
UID:86ab2a84-b820-48a9-a786-1e831cc4f3fb
X-WR-CALDESC:The UND Nistler College of Business will be holding a Virtual 
 Career & Internship Fair for UND students.
X-WR-RELCALID:9af66ef625b4f7160485a39efab3e120
X-WR-TIMEZONE:America/Chicago
BEGIN:VTIMEZONE
TZID:America/Chicago
BEGIN:STANDARD
TZNAME:CST
DTSTART:20211107T020000
TZOFFSETFROM:-0500
TZOFFSETTO:-0600
RDATE:20221106T020000
RDATE:20231105T020000
END:STANDARD
BEGIN:DAYLIGHT
TZNAME:CDT
DTSTART:20220313T020000
TZOFFSETFROM:-0600
TZOFFSETTO:-0500
RDATE:20230312T020000
RDATE:20240310T020000
END:DAYLIGHT
END:VTIMEZONE
BEGIN:VEVENT
UID:10135fe0-5cde-4444-87c8-0cf1115c3f30
DTSTAMP:20260422T185139Z
DESCRIPTION:The UND Nistler College of Business will be holding a Virtual C
 areer & Internship Fair for UND students.
DTSTART;TZID=America/Chicago:20220916T110000
DTEND;TZID=America/Chicago:20220916T130000
LOCATION:
SUMMARY:UND Virtual Nistler College Career & Internship Fair
END:VEVENT
END:VCALENDAR
