BEGIN:VCALENDAR
VERSION:2.0
PRODID:-//specialolympicsnd.org//NONSGML kigkonsult.se iCalcreator 2.30.10/
 /
CALSCALE:GREGORIAN
METHOD:PUBLISH
UID:4de7a904-54d8-40c7-8335-a050b286be67
X-WR-CALDESC:The UND Nistler College of Business will be holding  a Career 
 & Internship Fair for UND students in person.
X-WR-RELCALID:99db1f6cac499a3298f6f4d3a2d9e2f2
X-WR-TIMEZONE:America/Chicago
BEGIN:VTIMEZONE
TZID:America/Chicago
BEGIN:STANDARD
TZNAME:CST
DTSTART:20211107T020000
TZOFFSETFROM:-0500
TZOFFSETTO:-0600
RDATE:20221106T020000
RDATE:20231105T020000
END:STANDARD
BEGIN:DAYLIGHT
TZNAME:CDT
DTSTART:20220313T020000
TZOFFSETFROM:-0600
TZOFFSETTO:-0500
RDATE:20230312T020000
RDATE:20240310T020000
END:DAYLIGHT
END:VTIMEZONE
BEGIN:VEVENT
UID:ff5c5f7a-61a0-4c87-95df-6e7ea1d12ffd
DTSTAMP:20260422T185138Z
DESCRIPTION:The UND Nistler College of Business will be holding  a Career &
  Internship Fair for UND students in person.
DTSTART;TZID=America/Chicago:20220914T100000
DTEND;TZID=America/Chicago:20220914T140000
LOCATION:
SUMMARY:UND Nistler College Career & Internship Fair (In Person)
END:VEVENT
END:VCALENDAR
