BEGIN:VCALENDAR
VERSION:2.0
PRODID:-//specialolympicsnd.org//NONSGML kigkonsult.se iCalcreator 2.30.10/
 /
CALSCALE:GREGORIAN
METHOD:PUBLISH
UID:96bb892e-71ca-4bba-bfc7-eabab974b13b
X-WR-CALDESC:Visit your local Applebee's from 5pm - 9pm to Tip-A-Cop in sup
 port of Special Olympics North Dakota athletes! Area athletes will be team
 ing up with police officers across the state to spread the word about Spec
 ial Olympics.
X-WR-RELCALID:f891045b34c4a33bc943439d8755d85e
X-WR-TIMEZONE:America/Chicago
BEGIN:VTIMEZONE
TZID:America/Chicago
BEGIN:STANDARD
TZNAME:CST
DTSTART:20211107T020000
TZOFFSETFROM:-0500
TZOFFSETTO:-0600
RDATE:20221106T020000
RDATE:20231105T020000
END:STANDARD
BEGIN:DAYLIGHT
TZNAME:CDT
DTSTART:20220313T020000
TZOFFSETFROM:-0600
TZOFFSETTO:-0500
RDATE:20230312T020000
RDATE:20240310T020000
END:DAYLIGHT
END:VTIMEZONE
BEGIN:VEVENT
UID:4864b39b-925f-4f1d-9f39-5eb8a356fa15
DTSTAMP:20260422T184431Z
DESCRIPTION:Visit your local Applebee's from 5pm - 9pm to Tip-A-Cop in supp
 ort of Special Olympics North Dakota athletes! Area athletes will be teami
 ng up with police officers across the state to spread the word about Speci
 al Olympics.
DTSTART;TZID=America/Chicago:20220913T170000
DTEND;TZID=America/Chicago:20220913T210000
LOCATION:Your local Applebee's
SUMMARY:Tip-A-Cop Applebee's
END:VEVENT
END:VCALENDAR
