BEGIN:VCALENDAR
VERSION:2.0
PRODID:-//specialolympicsnd.org//NONSGML kigkonsult.se iCalcreator 2.30.10/
 /
CALSCALE:GREGORIAN
METHOD:PUBLISH
UID:00dc736f-a46f-4f0d-af93-badf4f629795
X-WR-CALDESC:The Fargo-Moorhead Red Hawks have teamed up with Special Olymp
 ics North Dakota with a ticket fundraiser!\nIf you use our code: SOND22 wh
 en purchasing your tickets for the August 7th game\, a portion of your pur
 chase gets donated to Special Olympics North Dakota! Purchase now to get t
 he best seats!
X-WR-RELCALID:6176ff274347643f45cbbf40455de9c8
X-WR-TIMEZONE:America/Chicago
BEGIN:VTIMEZONE
TZID:America/Chicago
BEGIN:STANDARD
TZNAME:CST
DTSTART:20211107T020000
TZOFFSETFROM:-0500
TZOFFSETTO:-0600
RDATE:20221106T020000
RDATE:20231105T020000
END:STANDARD
BEGIN:DAYLIGHT
TZNAME:CDT
DTSTART:20220313T020000
TZOFFSETFROM:-0600
TZOFFSETTO:-0500
RDATE:20230312T020000
END:DAYLIGHT
END:VTIMEZONE
BEGIN:VEVENT
UID:8eca50d6-69f7-4c99-86d6-a4a10d596953
DTSTAMP:20260422T184648Z
DESCRIPTION:The Fargo-Moorhead Red Hawks have teamed up with Special Olympi
 cs North Dakota with a ticket fundraiser!\nIf you use our code: SOND22 whe
 n purchasing your tickets for the August 7th game\, a portion of your purc
 hase gets donated to Special Olympics North Dakota! Purchase now to get th
 e best seats!
DTSTART;TZID=America/Chicago:20220807T130000
DTEND;TZID=America/Chicago:20220807T160000
LOCATION:Newman Outdoor Field
SUMMARY:FM Red Hawks - SOND Night
END:VEVENT
END:VCALENDAR
