BEGIN:VCALENDAR
VERSION:2.0
PRODID:-//specialolympicsnd.org//NONSGML kigkonsult.se iCalcreator 2.30.10/
 /
CALSCALE:GREGORIAN
METHOD:PUBLISH
UID:a096e624-941b-4638-8252-6736a96c218d
X-WR-CALDESC:CAR WASH - Blue Cross - Blue Shield Parking Lot - 45th St and 
 13th Ave S in Fargo.  9:30 AM - 3:45 PM.  E\n\nVolunteers NEEDED! Each shi
 ft is just over 2 hours - so\, it is easy to work at least one shift\, and
  even more if you'd like to!\n\nhttps://www.signupgenius.com/go/8050849ACA
 628A1FE3-special4\n
X-WR-RELCALID:8805fc620d165f23b36111120c55add9
X-WR-TIMEZONE:America/Chicago
BEGIN:VTIMEZONE
TZID:America/Chicago
BEGIN:STANDARD
TZNAME:CST
DTSTART:20211107T020000
TZOFFSETFROM:-0500
TZOFFSETTO:-0600
RDATE:20221106T020000
RDATE:20231105T020000
END:STANDARD
BEGIN:DAYLIGHT
TZNAME:CDT
DTSTART:20220313T020000
TZOFFSETFROM:-0600
TZOFFSETTO:-0500
RDATE:20230312T020000
END:DAYLIGHT
END:VTIMEZONE
BEGIN:VEVENT
UID:2c628055-3efd-42a2-a97c-ac5ee5dd76f0
DTSTAMP:20260422T184813Z
DESCRIPTION:CAR WASH - Blue Cross - Blue Shield Parking Lot - 45th St and 1
 3th Ave S in Fargo.  9:30 AM - 3:45 PM.  E\n\nVolunteers NEEDED! Each shif
 t is just over 2 hours - so\, it is easy to work at least one shift\, and 
 even more if you'd like to!\n\nhttps://www.signupgenius.com/go/8050849ACA6
 28A1FE3-special4\n
DTSTART;TZID=America/Chicago:20220806T093000
DTEND;TZID=America/Chicago:20220806T154500
LOCATION:Blue Cross Blue Shield Parking Lot
SUMMARY:SOND Cass County - Car Wash
END:VEVENT
END:VCALENDAR
