BEGIN:VCALENDAR
VERSION:2.0
PRODID:-//specialolympicsnd.org//NONSGML kigkonsult.se iCalcreator 2.30.10/
 /
CALSCALE:GREGORIAN
METHOD:PUBLISH
UID:c2ad31db-2dab-4e24-88de-51a9646aa3ec
X-WR-CALDESC:CAR WASH - July 23\, 2022 and August 6\, 2022 - Blue Cross - B
 lue Shield Parking Lot - 45th St and 13th Ave S in Fargo.  9:30 AM - 3:45 
 PM.  E\n\nVolunteers NEEDED! Each shift is just over 2 hours - so\, it is 
 easy to work at least one shift\, and even more if you'd like to!\n\nhttps
 ://www.signupgenius.com/go/8050849ACA628A1FE3-special4\n
X-WR-RELCALID:e2628be3a333073d0839efe6c081dac3
X-WR-TIMEZONE:America/Chicago
BEGIN:VTIMEZONE
TZID:America/Chicago
BEGIN:STANDARD
TZNAME:CST
DTSTART:20211107T020000
TZOFFSETFROM:-0500
TZOFFSETTO:-0600
RDATE:20221106T020000
RDATE:20231105T020000
END:STANDARD
BEGIN:DAYLIGHT
TZNAME:CDT
DTSTART:20220313T020000
TZOFFSETFROM:-0600
TZOFFSETTO:-0500
RDATE:20230312T020000
END:DAYLIGHT
END:VTIMEZONE
BEGIN:VEVENT
UID:f66fc2fd-65ae-44a1-8a64-e5ab6cf6632d
DTSTAMP:20260422T184829Z
DESCRIPTION:CAR WASH - July 23\, 2022 and August 6\, 2022 - Blue Cross - Bl
 ue Shield Parking Lot - 45th St and 13th Ave S in Fargo.  9:30 AM - 3:45 P
 M.  E\n\nVolunteers NEEDED! Each shift is just over 2 hours - so\, it is e
 asy to work at least one shift\, and even more if you'd like to!\n\nhttps:
 //www.signupgenius.com/go/8050849ACA628A1FE3-special4\n
DTSTART;TZID=America/Chicago:20220723T093000
DTEND;TZID=America/Chicago:20220723T154500
LOCATION:Blue Cross Blue Shield Parking Lot
SUMMARY:SOND Cass County - Car Wash
END:VEVENT
END:VCALENDAR
