BEGIN:VCALENDAR
VERSION:2.0
PRODID:-//specialolympicsnd.org//NONSGML kigkonsult.se iCalcreator 2.30.10/
 /
CALSCALE:GREGORIAN
METHOD:PUBLISH
UID:092abedc-b62c-4b32-997c-09073800249f
X-WR-CALDESC:
X-WR-RELCALID:6332017b8388a0435bb674ca2798d712
X-WR-TIMEZONE:America/Chicago
BEGIN:VTIMEZONE
TZID:America/Chicago
BEGIN:STANDARD
TZNAME:CST
DTSTART:20211107T020000
TZOFFSETFROM:-0500
TZOFFSETTO:-0600
RDATE:20221106T020000
RDATE:20231105T020000
END:STANDARD
BEGIN:DAYLIGHT
TZNAME:CDT
DTSTART:20220313T020000
TZOFFSETFROM:-0600
TZOFFSETTO:-0500
RDATE:20230312T020000
END:DAYLIGHT
END:VTIMEZONE
BEGIN:VEVENT
UID:aeb55440-14fa-44ae-8cf9-e47b203989b5
DTSTAMP:20260422T185007Z
DESCRIPTION:
DTSTART;TZID=America/Chicago:20220709T110000
DTEND;TZID=America/Chicago:20220709T140000
LOCATION:Marketplace Foods on South Broadway & 20th Ave
SUMMARY:SOND Minot - Hot Dog Fundraiser
END:VEVENT
END:VCALENDAR
