BEGIN:VCALENDAR
VERSION:2.0
PRODID:-//specialolympicsnd.org//NONSGML kigkonsult.se iCalcreator 2.30.10/
 /
CALSCALE:GREGORIAN
METHOD:PUBLISH
UID:16a071cd-4054-4be4-a4a4-80532b5ec8b7
X-WR-CALDESC:HORNBACHER'S BRAT STAND - July 8 - 9\, 2022.  This will be hel
 d at the Gateway West Hornbachers - 2050 Sheyenne St in West Fargo\, from 
 10:30 AM - 7:00 PM both Friday and Saturday. \n\nVolunteers NEEDED! Each s
 hift is only 3 hours! Here is the link to sign up for a shift or two....\n
 \nhttps://www.signupgenius.com/go/8050849ACA628A1FE3-special3\n
X-WR-RELCALID:4d0420e58fc442160c1aa43599ea8980
X-WR-TIMEZONE:America/Chicago
BEGIN:VTIMEZONE
TZID:America/Chicago
BEGIN:STANDARD
TZNAME:CST
DTSTART:20211107T020000
TZOFFSETFROM:-0500
TZOFFSETTO:-0600
RDATE:20221106T020000
RDATE:20231105T020000
END:STANDARD
BEGIN:DAYLIGHT
TZNAME:CDT
DTSTART:20220313T020000
TZOFFSETFROM:-0600
TZOFFSETTO:-0500
RDATE:20230312T020000
END:DAYLIGHT
END:VTIMEZONE
BEGIN:VEVENT
UID:c635cb1d-e32b-4f3c-87a1-072b84a41741
DTSTAMP:20260422T184619Z
DESCRIPTION:HORNBACHER'S BRAT STAND - July 8 - 9\, 2022.  This will be held
  at the Gateway West Hornbachers - 2050 Sheyenne St in West Fargo\, from 1
 0:30 AM - 7:00 PM both Friday and Saturday. \n\nVolunteers NEEDED! Each sh
 ift is only 3 hours! Here is the link to sign up for a shift or two....\n
 \nhttps://www.signupgenius.com/go/8050849ACA628A1FE3-special3\n
DTSTART;TZID=America/Chicago:20220708T103000
DTEND;TZID=America/Chicago:20220708T190000
LOCATION:Gateway West Hornbachers
SUMMARY:SOND Cass County - Brat Stand
END:VEVENT
END:VCALENDAR
