BEGIN:VCALENDAR
VERSION:2.0
PRODID:-//specialolympicsnd.org//NONSGML kigkonsult.se iCalcreator 2.30.10/
 /
CALSCALE:GREGORIAN
METHOD:PUBLISH
UID:14a6ab38-5dcc-4fde-9bbb-dc658505872b
X-WR-CALDESC:
X-WR-RELCALID:29ccff5da45bed796ecb847345e3c616
X-WR-TIMEZONE:America/Chicago
BEGIN:VTIMEZONE
TZID:America/Chicago
BEGIN:STANDARD
TZNAME:CST
DTSTART:20211107T020000
TZOFFSETFROM:-0500
TZOFFSETTO:-0600
RDATE:20221106T020000
END:STANDARD
BEGIN:DAYLIGHT
TZNAME:CDT
DTSTART:20220313T020000
TZOFFSETFROM:-0600
TZOFFSETTO:-0500
RDATE:20230312T020000
END:DAYLIGHT
END:VTIMEZONE
BEGIN:VEVENT
UID:8d15b15b-53fd-4acf-bf11-d01d19f663aa
DTSTAMP:20260422T184627Z
DESCRIPTION:
DTSTART;TZID=America/Chicago:20220423T110000
DTEND;TZID=America/Chicago:20220423T150000
LOCATION:
SUMMARY:Polar Plunge - Bismarck
END:VEVENT
END:VCALENDAR
