BEGIN:VCALENDAR
VERSION:2.0
PRODID:-//specialolympicsnd.org//NONSGML kigkonsult.se iCalcreator 2.30.10/
 /
CALSCALE:GREGORIAN
METHOD:PUBLISH
UID:ae3a4ba3-2af1-4dc4-9cdf-1bf59a1448f8
X-WR-CALDESC:
X-WR-RELCALID:d4e00b88a50b7129a942f2abe5274d8e
X-WR-TIMEZONE:America/Chicago
BEGIN:VTIMEZONE
TZID:America/Chicago
BEGIN:STANDARD
TZNAME:CST
DTSTART:20211107T020000
TZOFFSETFROM:-0500
TZOFFSETTO:-0600
RDATE:20221106T020000
END:STANDARD
BEGIN:DAYLIGHT
TZNAME:CDT
DTSTART:20220313T020000
TZOFFSETFROM:-0600
TZOFFSETTO:-0500
RDATE:20230312T020000
END:DAYLIGHT
END:VTIMEZONE
BEGIN:VEVENT
UID:e80f03aa-f5ed-4bc7-817f-e2015fcb61aa
DTSTAMP:20260422T184344Z
DESCRIPTION:
DTSTART;TZID=America/Chicago:20220409T110000
DTEND;TZID=America/Chicago:20220409T150000
LOCATION:
SUMMARY:Polar Plunge - Williston
END:VEVENT
END:VCALENDAR
