BEGIN:VCALENDAR
VERSION:2.0
PRODID:-//specialolympicsnd.org//NONSGML kigkonsult.se iCalcreator 2.30.10/
 /
CALSCALE:GREGORIAN
METHOD:PUBLISH
UID:76147537-3bea-4c62-806c-5ce2945ac277
X-WR-CALDESC:Visit Taco John's in Grand Forks\, Devils Lake\, Williston\, D
 ickinson\, and Mint on March 17th between 5pm-7pm and show the flyer below
  or mention Special Olympics and 50% of proceeds will be donated to help s
 end athletes to USA Games in Orlando\, FL this June.\n\nhttps://fb.me/e/1k
 KIorV4D- Grand Forks\nhttps://fb.me/e/18hfrerdy\, -Minot\nhttps://fb.me/e/
 3aXEL7Cjd\, -Devils Lake\nhttps://fb.me/e/2KXP2kI3f -Dickinson\nhttps://fb
 .me/e/2bBfxtfao- Williston
X-WR-RELCALID:51b572995bf141d1bfab32ac9cbcc198
X-WR-TIMEZONE:America/Chicago
BEGIN:VTIMEZONE
TZID:America/Chicago
BEGIN:STANDARD
TZNAME:CST
DTSTART:20211107T020000
TZOFFSETFROM:-0500
TZOFFSETTO:-0600
RDATE:20221106T020000
END:STANDARD
BEGIN:DAYLIGHT
TZNAME:CDT
DTSTART:20220313T020000
TZOFFSETFROM:-0600
TZOFFSETTO:-0500
RDATE:20230312T020000
END:DAYLIGHT
END:VTIMEZONE
BEGIN:VEVENT
UID:2faf93cd-c1ed-45d6-9416-27fd8634a054
DTSTAMP:20260422T185006Z
DESCRIPTION:Visit Taco John's in Grand Forks\, Devils Lake\, Williston\, Di
 ckinson\, and Mint on March 17th between 5pm-7pm and show the flyer below 
 or mention Special Olympics and 50% of proceeds will be donated to help se
 nd athletes to USA Games in Orlando\, FL this June.\n\nhttps://fb.me/e/1kK
 IorV4D- Grand Forks\nhttps://fb.me/e/18hfrerdy\, -Minot\nhttps://fb.me/e/3
 aXEL7Cjd\, -Devils Lake\nhttps://fb.me/e/2KXP2kI3f -Dickinson\nhttps://fb.
 me/e/2bBfxtfao- Williston
DTSTART;TZID=America/Chicago:20220317T170000
DTEND;TZID=America/Chicago:20220317T190000
LOCATION:
SUMMARY:Crunch for a Cause-Taco John's
END:VEVENT
END:VCALENDAR
