BEGIN:VCALENDAR
VERSION:2.0
PRODID:-//specialolympicsnd.org//NONSGML kigkonsult.se iCalcreator 2.30.10/
 /
CALSCALE:GREGORIAN
METHOD:PUBLISH
UID:7abb1b6d-541d-414c-87b7-ea94be904fca
X-WR-CALDESC:
X-WR-RELCALID:58043f0e1582c6966dbf9e40e9066eb2
X-WR-TIMEZONE:America/Chicago
BEGIN:VTIMEZONE
TZID:America/Chicago
BEGIN:STANDARD
TZNAME:CST
DTSTART:20211107T020000
TZOFFSETFROM:-0500
TZOFFSETTO:-0600
RDATE:20221106T020000
END:STANDARD
BEGIN:DAYLIGHT
TZNAME:CDT
DTSTART:20210314T020000
TZOFFSETFROM:-0600
TZOFFSETTO:-0500
RDATE:20220313T020000
RDATE:20230312T020000
END:DAYLIGHT
END:VTIMEZONE
BEGIN:VEVENT
UID:20138326-63b4-4375-98b4-27721aa4aa8a
DTSTAMP:20260422T184758Z
DESCRIPTION:
DTSTART;TZID=America/Chicago:20220312T110000
DTEND;TZID=America/Chicago:20220312T150000
LOCATION:
SUMMARY:Polar Plunge - Minot
END:VEVENT
END:VCALENDAR
