BEGIN:VCALENDAR
VERSION:2.0
PRODID:-//specialolympicsnd.org//NONSGML kigkonsult.se iCalcreator 2.30.10/
 /
CALSCALE:GREGORIAN
METHOD:PUBLISH
UID:ac667c8e-f84e-44a9-988a-76c92c4a92b6
X-WR-CALDESC:
X-WR-RELCALID:4f6282ffb89718c0b18d1e7df55c8434
X-WR-TIMEZONE:America/Chicago
BEGIN:VTIMEZONE
TZID:America/Chicago
BEGIN:STANDARD
TZNAME:CST
DTSTART:20211107T020000
TZOFFSETFROM:-0500
TZOFFSETTO:-0600
RDATE:20221106T020000
END:STANDARD
BEGIN:DAYLIGHT
TZNAME:CDT
DTSTART:20210314T020000
TZOFFSETFROM:-0600
TZOFFSETTO:-0500
RDATE:20220313T020000
RDATE:20230312T020000
END:DAYLIGHT
END:VTIMEZONE
BEGIN:VEVENT
UID:35d9f2c6-513d-492a-a367-5c94d5e1698b
DTSTAMP:20260422T184505Z
DESCRIPTION:
DTSTART;TZID=America/Chicago:20220210T000000
DTEND;TZID=America/Chicago:20220210T235900
LOCATION:
SUMMARY:Giving Hearts Day
END:VEVENT
END:VCALENDAR
