BEGIN:VCALENDAR
VERSION:2.0
PRODID:-//specialolympicsnd.org//NONSGML kigkonsult.se iCalcreator 2.30.10/
 /
CALSCALE:GREGORIAN
METHOD:PUBLISH
UID:d96315dc-478e-40ab-9e4f-523818f08491
X-WR-CALDESC:Special Night Out: February 9th\n*Participating businesses wil
 l donate a portion of their proceeds to SOND that night. \nEast Grand Fork
 s The Blue Moose Bar and Grill\, Dickinson Brickhouse Grille\, Grand Forks
  Sky's Cloud 9\, Minot Elevation\, Wahpeton Prante's\n\n
X-WR-RELCALID:662ac00b1735067736b8d25fc7c4d74a
X-WR-TIMEZONE:America/Chicago
BEGIN:VTIMEZONE
TZID:America/Chicago
BEGIN:STANDARD
TZNAME:CST
DTSTART:20211107T020000
TZOFFSETFROM:-0500
TZOFFSETTO:-0600
RDATE:20221106T020000
END:STANDARD
BEGIN:DAYLIGHT
TZNAME:CDT
DTSTART:20210314T020000
TZOFFSETFROM:-0600
TZOFFSETTO:-0500
RDATE:20220313T020000
RDATE:20230312T020000
END:DAYLIGHT
END:VTIMEZONE
BEGIN:VEVENT
UID:2056e341-ac62-41e3-92b4-4178749e52ae
DTSTAMP:20260422T184505Z
DESCRIPTION:Special Night Out: February 9th\n*Participating businesses will
  donate a portion of their proceeds to SOND that night. \nEast Grand Forks
  The Blue Moose Bar and Grill\, Dickinson Brickhouse Grille\, Grand Forks 
 Sky's Cloud 9\, Minot Elevation\, Wahpeton Prante's\n\n
DTSTART;TZID=America/Chicago:20220209T000000
DTEND;TZID=America/Chicago:20220209T235900
LOCATION:
SUMMARY:A Special Night Out
END:VEVENT
END:VCALENDAR
