BEGIN:VCALENDAR
VERSION:2.0
PRODID:-//specialolympicsnd.org//NONSGML kigkonsult.se iCalcreator 2.30.10/
 /
CALSCALE:GREGORIAN
METHOD:PUBLISH
UID:a600fcf0-83e3-4fae-a107-b363adb4f1de
X-WR-CALDESC:
X-WR-RELCALID:b858914c0db925a2391d2ee1bb4ef49d
X-WR-TIMEZONE:America/Chicago
BEGIN:VTIMEZONE
TZID:America/Chicago
BEGIN:STANDARD
TZNAME:CST
DTSTART:20211107T020000
TZOFFSETFROM:-0500
TZOFFSETTO:-0600
RDATE:20221106T020000
END:STANDARD
BEGIN:DAYLIGHT
TZNAME:CDT
DTSTART:20210314T020000
TZOFFSETFROM:-0600
TZOFFSETTO:-0500
RDATE:20220313T020000
RDATE:20230312T020000
END:DAYLIGHT
END:VTIMEZONE
BEGIN:VEVENT
UID:0f786a90-4b03-41f3-94d2-017af4db0a26
DTSTAMP:20260422T202142Z
DESCRIPTION:
DTSTART;TZID=America/Chicago:20211126T000000
DTEND;TZID=America/Chicago:20211218T235900
LOCATION:Tickets will be drawn daily.
SUMMARY:LETR Cool Cash Raffle Drawing
END:VEVENT
END:VCALENDAR
