BEGIN:VCALENDAR
VERSION:2.0
PRODID:-//specialolympicsnd.org//NONSGML kigkonsult.se iCalcreator 2.30.10/
 /
CALSCALE:GREGORIAN
METHOD:PUBLISH
UID:b39b4a24-e99b-443c-b450-0bafed8dd47a
X-WR-CALDESC:
X-WR-RELCALID:26ac48a1d9642e6671e3f3f147e5bd27
X-WR-TIMEZONE:America/Chicago
BEGIN:VTIMEZONE
TZID:America/Chicago
BEGIN:STANDARD
TZNAME:CST
DTSTART:20201101T020000
TZOFFSETFROM:-0500
TZOFFSETTO:-0600
RDATE:20211107T020000
RDATE:20221106T020000
END:STANDARD
BEGIN:DAYLIGHT
TZNAME:CDT
DTSTART:20210314T020000
TZOFFSETFROM:-0600
TZOFFSETTO:-0500
RDATE:20220313T020000
RDATE:20230312T020000
END:DAYLIGHT
END:VTIMEZONE
BEGIN:VEVENT
UID:f6396a79-189e-483a-89d1-1af7ae836cad
DTSTAMP:20260424T075418Z
DESCRIPTION:
DTSTART;TZID=America/Chicago:20211018T170000
DTEND;TZID=America/Chicago:20211019T220000
LOCATION:Minot State University \, 500 University Ave W\, Min\, ND 58707 US
SUMMARY:Dancing with Special Stars
END:VEVENT
END:VCALENDAR
