BEGIN:VCALENDAR
VERSION:2.0
PRODID:-//specialolympicsnd.org//NONSGML kigkonsult.se iCalcreator 2.30.10/
 /
CALSCALE:GREGORIAN
METHOD:PUBLISH
UID:429ae6d6-5fa6-4fc0-97b2-d21462655368
X-WR-CALDESC:
X-WR-RELCALID:255f4168c89a0d716cf1c39186e5d096
X-WR-TIMEZONE:America/Chicago
BEGIN:VTIMEZONE
TZID:America/Chicago
BEGIN:STANDARD
TZNAME:CST
DTSTART:20201101T020000
TZOFFSETFROM:-0500
TZOFFSETTO:-0600
RDATE:20211107T020000
RDATE:20221106T020000
END:STANDARD
BEGIN:DAYLIGHT
TZNAME:CDT
DTSTART:20210314T020000
TZOFFSETFROM:-0600
TZOFFSETTO:-0500
RDATE:20220313T020000
RDATE:20230312T020000
END:DAYLIGHT
END:VTIMEZONE
BEGIN:VEVENT
UID:b969c0f5-d2ec-4e8d-a19f-f2dd32274c32
DTSTAMP:20260422T202604Z
DESCRIPTION:
DTSTART;TZID=America/Chicago:20211009T080000
DTEND;TZID=America/Chicago:20211009T140000
LOCATION:Red River Valley Fair Grounds\, 1805 Main Ave W\, West Fargo\, ND 
 58078 US
SUMMARY:Law Enforcement Torch Run Truck Convey
END:VEVENT
END:VCALENDAR
