BEGIN:VCALENDAR
VERSION:2.0
PRODID:-//specialolympicsnd.org//NONSGML kigkonsult.se iCalcreator 2.30.10/
 /
CALSCALE:GREGORIAN
METHOD:PUBLISH
UID:e8a6d216-b964-45c4-9e68-dc8a2461205d
X-WR-CALDESC:
X-WR-RELCALID:1e1c85595e78eb7fa747e4faecdbd4b0
X-WR-TIMEZONE:America/Chicago
BEGIN:VTIMEZONE
TZID:America/Chicago
BEGIN:STANDARD
TZNAME:CST
DTSTART:20201101T020000
TZOFFSETFROM:-0500
TZOFFSETTO:-0600
RDATE:20211107T020000
RDATE:20221106T020000
END:STANDARD
BEGIN:DAYLIGHT
TZNAME:CDT
DTSTART:20210314T020000
TZOFFSETFROM:-0600
TZOFFSETTO:-0500
RDATE:20220313T020000
RDATE:20230312T020000
END:DAYLIGHT
END:VTIMEZONE
BEGIN:VEVENT
UID:7774f24c-7c95-415c-bc5b-2b5bafae9dff
DTSTAMP:20260422T201915Z
DESCRIPTION:
DTSTART;TZID=America/Chicago:20210914T000000
DTEND;TZID=America/Chicago:20210915T235900
LOCATION:Applebee's Restaurants across the state!
SUMMARY:Tip a Cop
END:VEVENT
END:VCALENDAR
