BEGIN:VCALENDAR
VERSION:2.0
PRODID:-//specialolympicsnd.org//NONSGML kigkonsult.se iCalcreator 2.30.10/
 /
CALSCALE:GREGORIAN
METHOD:PUBLISH
UID:96213b2b-b173-42fe-a71e-c6a91acffd2a
X-WR-CALDESC:
X-WR-RELCALID:fffad4f7782f91db41d2bc923a2283e6
X-WR-TIMEZONE:America/Chicago
BEGIN:VTIMEZONE
TZID:America/Chicago
BEGIN:STANDARD
TZNAME:CST
DTSTART:20201101T020000
TZOFFSETFROM:-0500
TZOFFSETTO:-0600
RDATE:20211107T020000
RDATE:20221106T020000
END:STANDARD
BEGIN:DAYLIGHT
TZNAME:CDT
DTSTART:20210314T020000
TZOFFSETFROM:-0600
TZOFFSETTO:-0500
RDATE:20220313T020000
END:DAYLIGHT
END:VTIMEZONE
BEGIN:VEVENT
UID:b3caf90a-0f8b-427f-a621-0822b5d61624
DTSTAMP:20260422T202014Z
DESCRIPTION:
DTSTART;TZID=America/Chicago:20210712T120000
DTEND;TZID=America/Chicago:20210712T170000
LOCATION:Minot Country Club
SUMMARY:Minot Golf Classic
END:VEVENT
END:VCALENDAR
