BEGIN:VCALENDAR
VERSION:2.0
PRODID:-//specialolympicsnd.org//NONSGML kigkonsult.se iCalcreator 2.30.10/
 /
CALSCALE:GREGORIAN
METHOD:PUBLISH
UID:42dda0a5-05cd-47af-bdc1-fd15fc70e4e5
X-WR-CALDESC:
X-WR-RELCALID:33a203c56ba4b0118e4c7733e3dd3a49
X-WR-TIMEZONE:America/Chicago
BEGIN:VTIMEZONE
TZID:America/Chicago
BEGIN:STANDARD
TZNAME:CST
DTSTART:20201101T020000
TZOFFSETFROM:-0500
TZOFFSETTO:-0600
RDATE:20211107T020000
RDATE:20221106T020000
END:STANDARD
BEGIN:DAYLIGHT
TZNAME:CDT
DTSTART:20210314T020000
TZOFFSETFROM:-0600
TZOFFSETTO:-0500
RDATE:20220313T020000
END:DAYLIGHT
END:VTIMEZONE
BEGIN:VEVENT
UID:14343e51-cedc-40f6-a736-2858f0ba41f9
DTSTAMP:20260422T201917Z
DESCRIPTION:
DTSTART;TZID=America/Chicago:20210628T110000
DTEND;TZID=America/Chicago:20210628T170000
LOCATION:Oxbow Country Club
SUMMARY:Fargo Golf Classic
END:VEVENT
END:VCALENDAR
