BEGIN:VCALENDAR
VERSION:2.0
PRODID:-//specialolympicsnd.org//NONSGML kigkonsult.se iCalcreator 2.30.10/
 /
CALSCALE:GREGORIAN
METHOD:PUBLISH
UID:3d724061-c3d2-4430-a116-601f8f093d19
X-WR-CALDESC:
X-WR-RELCALID:9a7b88538065d4dcfc1d966a8540c7d0
X-WR-TIMEZONE:America/Chicago
BEGIN:VTIMEZONE
TZID:America/Chicago
BEGIN:STANDARD
TZNAME:CST
DTSTART:20201101T020000
TZOFFSETFROM:-0500
TZOFFSETTO:-0600
RDATE:20211107T020000
RDATE:20221106T020000
END:STANDARD
BEGIN:DAYLIGHT
TZNAME:CDT
DTSTART:20210314T020000
TZOFFSETFROM:-0600
TZOFFSETTO:-0500
RDATE:20220313T020000
END:DAYLIGHT
END:VTIMEZONE
BEGIN:VEVENT
UID:22918910-43cc-40ce-afbc-0d968548d73e
DTSTAMP:20260422T202205Z
DESCRIPTION:
DTSTART;TZID=America/Chicago:20210624T123000
DTEND;TZID=America/Chicago:20210624T170000
LOCATION:Grand Forks Country Club
SUMMARY:Grand Forks Golf Classic
END:VEVENT
END:VCALENDAR
