BEGIN:VCALENDAR
VERSION:2.0
PRODID:-//specialolympicsnd.org//NONSGML kigkonsult.se iCalcreator 2.30.10/
 /
CALSCALE:GREGORIAN
METHOD:PUBLISH
UID:ef3c53c3-ab6a-47d1-885f-5163cc592512
X-WR-CALDESC:
X-WR-RELCALID:753557efa7c32e74fa608b066f252e85
X-WR-TIMEZONE:America/Chicago
BEGIN:VTIMEZONE
TZID:America/Chicago
BEGIN:STANDARD
TZNAME:CST
DTSTART:20201101T020000
TZOFFSETFROM:-0500
TZOFFSETTO:-0600
RDATE:20211107T020000
END:STANDARD
BEGIN:DAYLIGHT
TZNAME:CDT
DTSTART:20210314T020000
TZOFFSETFROM:-0600
TZOFFSETTO:-0500
RDATE:20220313T020000
END:DAYLIGHT
END:VTIMEZONE
BEGIN:VEVENT
UID:d683166e-0615-40f2-bfee-dea6aa6759fa
DTSTAMP:20260422T202221Z
DESCRIPTION:
DTSTART;TZID=America/Chicago:20210424T123000
DTEND;TZID=America/Chicago:20210424T160000
LOCATION:The Pier Bar & Grill
SUMMARY:Polar Plunge - Bismarck
END:VEVENT
END:VCALENDAR
