BEGIN:VCALENDAR
VERSION:2.0
PRODID:-//specialolympicsnd.org//NONSGML kigkonsult.se iCalcreator 2.30.10/
 /
CALSCALE:GREGORIAN
METHOD:PUBLISH
UID:dd0888f9-429d-4579-b65e-86500a3286d0
X-WR-CALDESC:
X-WR-RELCALID:834933959b788ca42fab4133bc29f15f
X-WR-TIMEZONE:America/Chicago
BEGIN:VTIMEZONE
TZID:America/Chicago
BEGIN:STANDARD
TZNAME:CST
DTSTART:20201101T020000
TZOFFSETFROM:-0500
TZOFFSETTO:-0600
RDATE:20211107T020000
END:STANDARD
BEGIN:DAYLIGHT
TZNAME:CDT
DTSTART:20210314T020000
TZOFFSETFROM:-0600
TZOFFSETTO:-0500
RDATE:20220313T020000
END:DAYLIGHT
END:VTIMEZONE
BEGIN:VEVENT
UID:f1411403-7e58-44bf-8d37-2893e0efde3a
DTSTAMP:20260422T202014Z
DESCRIPTION:
DTSTART;TZID=America/Chicago:20210417T123000
DTEND;TZID=America/Chicago:20210417T160000
LOCATION:Spring Lake Park - Williston
SUMMARY:Polar Plunge - Williston
END:VEVENT
END:VCALENDAR
