BEGIN:VCALENDAR
VERSION:2.0
PRODID:-//specialolympicsnd.org//NONSGML kigkonsult.se iCalcreator 2.30.10/
 /
CALSCALE:GREGORIAN
METHOD:PUBLISH
UID:85ac8311-247e-47e2-a471-ee1fe95a7f4d
X-WR-CALDESC:
X-WR-RELCALID:0722ab26b2a3b38c8fa0e30cf5e0ca5c
X-WR-TIMEZONE:America/Chicago
BEGIN:VTIMEZONE
TZID:America/Chicago
BEGIN:STANDARD
TZNAME:CST
DTSTART:20201101T020000
TZOFFSETFROM:-0500
TZOFFSETTO:-0600
RDATE:20211107T020000
END:STANDARD
BEGIN:DAYLIGHT
TZNAME:CDT
DTSTART:20210314T020000
TZOFFSETFROM:-0600
TZOFFSETTO:-0500
RDATE:20220313T020000
END:DAYLIGHT
END:VTIMEZONE
BEGIN:VEVENT
UID:55d4a036-c408-41ad-9713-f35e50fbd471
DTSTAMP:20260422T202307Z
DESCRIPTION:
DTSTART;TZID=America/Chicago:20210410T123000
DTEND;TZID=America/Chicago:20210410T160000
LOCATION:Delta Hotels Fargo
SUMMARY:Polar Plunge - Fargo
END:VEVENT
END:VCALENDAR
