BEGIN:VCALENDAR
VERSION:2.0
PRODID:-//specialolympicsnd.org//NONSGML kigkonsult.se iCalcreator 2.30.10/
 /
CALSCALE:GREGORIAN
METHOD:PUBLISH
UID:f4bc160f-bb67-46ca-ad68-6ceb21db99ee
X-WR-CALDESC:Thank you for participating in the Fitness Challenge! Submit y
 our final scores by March 31st. Scores can be submitted by sending us a pr
 inted or electronic copy of your completed scoresheet.
X-WR-RELCALID:cba25ebcd1beb1277188a1035b0d974a
X-WR-TIMEZONE:America/Chicago
BEGIN:VTIMEZONE
TZID:America/Chicago
BEGIN:STANDARD
TZNAME:CST
DTSTART:20201101T020000
TZOFFSETFROM:-0500
TZOFFSETTO:-0600
RDATE:20211107T020000
END:STANDARD
BEGIN:DAYLIGHT
TZNAME:CDT
DTSTART:20210314T020000
TZOFFSETFROM:-0600
TZOFFSETTO:-0500
RDATE:20220313T020000
END:DAYLIGHT
END:VTIMEZONE
BEGIN:VEVENT
UID:b45cbc7a-2ec0-4d2e-aaca-9c8719a751bf
DTSTAMP:20260422T202504Z
DESCRIPTION:Thank you for participating in the Fitness Challenge! Submit yo
 ur final scores by March 31st. Scores can be submitted by sending us a pri
 nted or electronic copy of your completed scoresheet.
DTSTART;TZID=America/Chicago:20210331T000000
DTEND;TZID=America/Chicago:20210331T235900
LOCATION:At your home!
SUMMARY:Fitness Challenge - Deadline to submit your final scores
END:VEVENT
END:VCALENDAR
