BEGIN:VCALENDAR
VERSION:2.0
PRODID:-//specialolympicsnd.org//NONSGML kigkonsult.se iCalcreator 2.30.10/
 /
CALSCALE:GREGORIAN
METHOD:PUBLISH
UID:efad1735-52ef-4da9-8b9a-f8df6178e126
X-WR-CALDESC:
X-WR-RELCALID:514217ef4c056f0d3ea4f6b77a173714
X-WR-TIMEZONE:America/Chicago
BEGIN:VTIMEZONE
TZID:America/Chicago
BEGIN:STANDARD
TZNAME:CST
DTSTART:20201101T020000
TZOFFSETFROM:-0500
TZOFFSETTO:-0600
RDATE:20211107T020000
END:STANDARD
BEGIN:DAYLIGHT
TZNAME:CDT
DTSTART:20210314T020000
TZOFFSETFROM:-0600
TZOFFSETTO:-0500
RDATE:20220313T020000
END:DAYLIGHT
END:VTIMEZONE
BEGIN:VEVENT
UID:4dd9140c-c33e-4469-85c0-fd146da5db84
DTSTAMP:20260422T202331Z
DESCRIPTION:
DTSTART;TZID=America/Chicago:20210327T123000
DTEND;TZID=America/Chicago:20210327T160000
LOCATION:Prairie Hills Mall
SUMMARY:Polar Plunge - Dickinson
END:VEVENT
END:VCALENDAR
