BEGIN:VCALENDAR
VERSION:2.0
PRODID:-//specialolympicsnd.org//NONSGML kigkonsult.se iCalcreator 2.30.10/
 /
CALSCALE:GREGORIAN
METHOD:PUBLISH
UID:145e217b-0fa5-4ca8-af54-4ee63b29aa3d
X-WR-CALDESC:
X-WR-RELCALID:48b1d0de10e321a300328cd3095ad0c7
X-WR-TIMEZONE:America/Chicago
BEGIN:VTIMEZONE
TZID:America/Chicago
BEGIN:STANDARD
TZNAME:CST
DTSTART:20201101T020000
TZOFFSETFROM:-0500
TZOFFSETTO:-0600
RDATE:20211107T020000
END:STANDARD
BEGIN:DAYLIGHT
TZNAME:CDT
DTSTART:20210314T020000
TZOFFSETFROM:-0600
TZOFFSETTO:-0500
RDATE:20220313T020000
END:DAYLIGHT
END:VTIMEZONE
BEGIN:VEVENT
UID:bbbf4724-895f-4c57-8dec-23ddebe24910
DTSTAMP:20260422T202214Z
DESCRIPTION:
DTSTART;TZID=America/Chicago:20210313T123000
DTEND;TZID=America/Chicago:20210313T160000
LOCATION:Sleep Inn & Suites
SUMMARY:Polar Plunge - Minot
END:VEVENT
END:VCALENDAR
