BEGIN:VCALENDAR
VERSION:2.0
PRODID:-//specialolympicsnd.org//NONSGML kigkonsult.se iCalcreator 2.30.10/
 /
CALSCALE:GREGORIAN
METHOD:PUBLISH
UID:cbc26ba5-2977-4519-ac3a-31dbc845cf25
X-WR-CALDESC:Submit your Week 4 scores by February 28th. Scores can be subm
 itted by sending us a printed or electronic copy of your scoresheet.
X-WR-RELCALID:a96dae389fb1b7d8b94841690f227130
X-WR-TIMEZONE:America/Chicago
BEGIN:VTIMEZONE
TZID:America/Chicago
BEGIN:STANDARD
TZNAME:CST
DTSTART:20201101T020000
TZOFFSETFROM:-0500
TZOFFSETTO:-0600
RDATE:20211107T020000
END:STANDARD
BEGIN:DAYLIGHT
TZNAME:CDT
DTSTART:20200308T020000
TZOFFSETFROM:-0600
TZOFFSETTO:-0500
RDATE:20210314T020000
RDATE:20220313T020000
END:DAYLIGHT
END:VTIMEZONE
BEGIN:VEVENT
UID:3528217d-ecd2-4dc6-9aea-33b50367e50c
DTSTAMP:20260422T202455Z
DESCRIPTION:Submit your Week 4 scores by February 28th. Scores can be submi
 tted by sending us a printed or electronic copy of your scoresheet.
DTSTART;TZID=America/Chicago:20210228T000000
DTEND;TZID=America/Chicago:20210228T235900
LOCATION:At your home!
SUMMARY:Fitness Challenge - Deadline to submit your Week 4 scores
END:VEVENT
END:VCALENDAR
