BEGIN:VCALENDAR
VERSION:2.0
PRODID:-//specialolympicsnd.org//NONSGML kigkonsult.se iCalcreator 2.30.10/
 /
CALSCALE:GREGORIAN
METHOD:PUBLISH
UID:503bf090-9886-4db3-9f53-dfb0913fca28
X-WR-CALDESC:
X-WR-RELCALID:9cf41741468851c2f381348c6f399d69
X-WR-TIMEZONE:America/Chicago
BEGIN:VTIMEZONE
TZID:America/Chicago
BEGIN:STANDARD
TZNAME:CST
DTSTART:20201101T020000
TZOFFSETFROM:-0500
TZOFFSETTO:-0600
RDATE:20211107T020000
END:STANDARD
BEGIN:DAYLIGHT
TZNAME:CDT
DTSTART:20200308T020000
TZOFFSETFROM:-0600
TZOFFSETTO:-0500
RDATE:20210314T020000
RDATE:20220313T020000
END:DAYLIGHT
END:VTIMEZONE
BEGIN:VEVENT
UID:d57cf8df-2ec6-4c41-8684-58365d49f79d
DTSTAMP:20260422T202043Z
DESCRIPTION:
DTSTART;TZID=America/Chicago:20210210T000000
DTEND;TZID=America/Chicago:20210210T235900
LOCATION:Restaurants across the state!
SUMMARY:A Special Night Out
END:VEVENT
END:VCALENDAR
