BEGIN:VCALENDAR
VERSION:2.0
PRODID:-//specialolympicsnd.org//NONSGML kigkonsult.se iCalcreator 2.30.10/
 /
CALSCALE:GREGORIAN
METHOD:PUBLISH
UID:acccf9d3-4c52-43e2-81ce-52b110070b66
X-WR-CALDESC:The Fitness Challenge is a great way to stay active and compet
 itive. Work towards achieving your fitness goals and you might just win a 
 prize along the way! Click the link below to learn more about the fitness 
 challenge.
X-WR-RELCALID:d3c2e218724982be772539767fd81747
X-WR-TIMEZONE:America/Chicago
BEGIN:VTIMEZONE
TZID:America/Chicago
BEGIN:STANDARD
TZNAME:CST
DTSTART:20201101T020000
TZOFFSETFROM:-0500
TZOFFSETTO:-0600
RDATE:20211107T020000
END:STANDARD
BEGIN:DAYLIGHT
TZNAME:CDT
DTSTART:20200308T020000
TZOFFSETFROM:-0600
TZOFFSETTO:-0500
RDATE:20210314T020000
RDATE:20220313T020000
END:DAYLIGHT
END:VTIMEZONE
BEGIN:VEVENT
UID:d61f9092-1110-41a6-a1a4-9fa4b7c5c9f4
DTSTAMP:20260422T202430Z
DESCRIPTION:The Fitness Challenge is a great way to stay active and competi
 tive. Work towards achieving your fitness goals and you might just win a p
 rize along the way! Click the link below to learn more about the fitness c
 hallenge.
DTSTART;TZID=America/Chicago:20210206T000000
DTEND;TZID=America/Chicago:20210206T235900
LOCATION:At your home!
SUMMARY:Fitness Challenge - Deadline to submit your week 1 scores
END:VEVENT
END:VCALENDAR
