BEGIN:VCALENDAR
VERSION:2.0
PRODID:-//specialolympicsnd.org//NONSGML kigkonsult.se iCalcreator 2.30.10/
 /
CALSCALE:GREGORIAN
METHOD:PUBLISH
UID:a7d5a701-33c7-46cf-b84e-14e1c5277061
X-WR-CALDESC:The Cool Cash raffle is a “Calendar Raffle” and is one way the
  Law Enforcement Torch Run (LETR) helps to raise money for Special Olympic
 s North Dakota. The raffle runs at the end of every calendar year. During 
 that time\, $200 will be given away every weekday (Monday-Friday)\, and $5
 00 will be given away on weekend days (Saturday-Sunday).  Raffle winners w
 ill be listed on our website daily\, except over weekends\, when they will
  be added the following Monday.
X-WR-RELCALID:204a5a18eb7814c81056756746687cb4
X-WR-TIMEZONE:America/Chicago
BEGIN:VTIMEZONE
TZID:America/Chicago
BEGIN:STANDARD
TZNAME:CST
DTSTART:20201101T020000
TZOFFSETFROM:-0500
TZOFFSETTO:-0600
RDATE:20211107T020000
END:STANDARD
BEGIN:DAYLIGHT
TZNAME:CDT
DTSTART:20200308T020000
TZOFFSETFROM:-0600
TZOFFSETTO:-0500
RDATE:20210314T020000
RDATE:20220313T020000
END:DAYLIGHT
END:VTIMEZONE
BEGIN:VEVENT
UID:0fb8839f-bc5e-4df9-9b3c-1e7fe832962e
DTSTAMP:20260422T231631Z
DESCRIPTION:The Cool Cash raffle is a “Calendar Raffle” and is one way the 
 Law Enforcement Torch Run (LETR) helps to raise money for Special Olympics
  North Dakota. The raffle runs at the end of every calendar year. During t
 hat time\, $200 will be given away every weekday (Monday-Friday)\, and $50
 0 will be given away on weekend days (Saturday-Sunday).  Raffle winners wi
 ll be listed on our website daily\, except over weekends\, when they will 
 be added the following Monday.
DTSTART;TZID=America/Chicago:20201127T000000
DTEND;TZID=America/Chicago:20201219T235900
LOCATION:Across North Dakota
SUMMARY:Cool Cash Raffle
END:VEVENT
END:VCALENDAR
