BEGIN:VCALENDAR
VERSION:2.0
PRODID:-//specialolympicsnd.org//NONSGML kigkonsult.se iCalcreator 2.30.10/
 /
CALSCALE:GREGORIAN
METHOD:PUBLISH
UID:c7388b6f-0e31-4ba6-b97e-3349a6fca328
X-WR-CALDESC:“Dancing for Special Stars” is a dance contest patterned after
  the hit television program “Dancing with the Stars.” This event is a fund
 raiser for Special Olympics North Dakota (SOND) and will feature area cele
 brities paired with local dance instructors.  Each couple will perform a d
 ance of their choice. Doors open at 6:15 pm and the performance begins at 
 7:00.
X-WR-RELCALID:de6862b090fb41d3a1b455ff9f90cc26
X-WR-TIMEZONE:America/Chicago
BEGIN:VTIMEZONE
TZID:America/Chicago
BEGIN:STANDARD
TZNAME:CST
DTSTART:20191103T020000
TZOFFSETFROM:-0500
TZOFFSETTO:-0600
RDATE:20201101T020000
RDATE:20211107T020000
END:STANDARD
BEGIN:DAYLIGHT
TZNAME:CDT
DTSTART:20200308T020000
TZOFFSETFROM:-0600
TZOFFSETTO:-0500
RDATE:20210314T020000
RDATE:20220313T020000
END:DAYLIGHT
END:VTIMEZONE
BEGIN:VEVENT
UID:18425791-b80e-4b94-937a-14b5af90d23a
DTSTAMP:20260422T231856Z
DESCRIPTION:“Dancing for Special Stars” is a dance contest patterned after 
 the hit television program “Dancing with the Stars.” This event is a fundr
 aiser for Special Olympics North Dakota (SOND) and will feature area celeb
 rities paired with local dance instructors.  Each couple will perform a da
 nce of their choice. Doors open at 6:15 pm and the performance begins at 7
 :00.
DTSTART;TZID=America/Chicago:20200929T000000
DTEND;TZID=America/Chicago:20200929T235900
LOCATION:HOPE Church - Grand Cities Mall
SUMMARY:Dancing for Special Stars Grand Forks - Doors open at 6:15 and perf
 ormance begins at 7:00
END:VEVENT
END:VCALENDAR
