BEGIN:VCALENDAR
VERSION:2.0
PRODID:-//specialolympicsnd.org//NONSGML kigkonsult.se iCalcreator 2.30.10/
 /
CALSCALE:GREGORIAN
METHOD:PUBLISH
UID:a37bf3f0-0ff2-424c-bdc1-b705b9de6a3b
X-WR-CALDESC:Each Fall\, more than 100 law enforcement personnel volunteer 
 their time\, hosting guests in Applebee‘s Neighborhood Grill and Bars acro
 ss the state to raise awareness and tip money for Special Olympics. The La
 w Enforcement Torch Run group\, which consists of volunteers from all agen
 cies of law enforcement has hosted the event for over 10 years. This year\
 , you can enjoy your meal in the restaurant or pick it up with Carside to 
 Go.
X-WR-RELCALID:d24d32aafcc2b6c3b83516fba7313271
X-WR-TIMEZONE:America/Chicago
BEGIN:VTIMEZONE
TZID:America/Chicago
BEGIN:STANDARD
TZNAME:CST
DTSTART:20191103T020000
TZOFFSETFROM:-0500
TZOFFSETTO:-0600
RDATE:20201101T020000
RDATE:20211107T020000
END:STANDARD
BEGIN:DAYLIGHT
TZNAME:CDT
DTSTART:20200308T020000
TZOFFSETFROM:-0600
TZOFFSETTO:-0500
RDATE:20210314T020000
RDATE:20220313T020000
END:DAYLIGHT
END:VTIMEZONE
BEGIN:VEVENT
UID:09162c3b-6573-45c2-bcce-e4d836f34e5a
DTSTAMP:20260422T231449Z
DESCRIPTION:Each Fall\, more than 100 law enforcement personnel volunteer t
 heir time\, hosting guests in Applebee‘s Neighborhood Grill and Bars acros
 s the state to raise awareness and tip money for Special Olympics. The Law
  Enforcement Torch Run group\, which consists of volunteers from all agenc
 ies of law enforcement has hosted the event for over 10 years. This year\,
  you can enjoy your meal in the restaurant or pick it up with Carside to G
 o.
DTSTART;TZID=America/Chicago:20200916T170000
DTEND;TZID=America/Chicago:20200916T210000
LOCATION:Applebee's across the state
SUMMARY:Tip-A-Cop
END:VEVENT
END:VCALENDAR
