BEGIN:VCALENDAR
VERSION:2.0
PRODID:-//specialolympicsnd.org//NONSGML kigkonsult.se iCalcreator 2.30.10/
 /
CALSCALE:GREGORIAN
METHOD:PUBLISH
UID:a8de59f6-55d0-456c-ad9c-6ef72ebcac74
X-WR-CALDESC:
X-WR-RELCALID:8b84b0cca4b66926d3e61194e801a271
X-WR-TIMEZONE:America/Chicago
BEGIN:VTIMEZONE
TZID:America/Chicago
BEGIN:STANDARD
TZNAME:CST
DTSTART:20191103T020000
TZOFFSETFROM:-0500
TZOFFSETTO:-0600
RDATE:20201101T020000
RDATE:20211107T020000
END:STANDARD
BEGIN:DAYLIGHT
TZNAME:CDT
DTSTART:20200308T020000
TZOFFSETFROM:-0600
TZOFFSETTO:-0500
RDATE:20210314T020000
END:DAYLIGHT
END:VTIMEZONE
BEGIN:VEVENT
UID:d6f86358-caea-4185-9c0d-1d9bc14b902d
DTSTAMP:20260422T231535Z
DESCRIPTION:
DTSTART;TZID=America/Chicago:20200803T000000
DTEND;TZID=America/Chicago:20200803T235900
LOCATION:
SUMMARY:Golf Classic - Fargo
END:VEVENT
END:VCALENDAR
