BEGIN:VCALENDAR
VERSION:2.0
PRODID:-//specialolympicsnd.org//NONSGML kigkonsult.se iCalcreator 2.30.10/
 /
CALSCALE:GREGORIAN
METHOD:PUBLISH
UID:558b8734-bcb0-4969-834c-6e2f23d87ec1
X-WR-CALDESC:Join us for the 11th annual Dancing for Special Stars event in
  Grand Forks! “Dancing for Special Stars” is a dance contest patterned aft
 er the hit television program “Dancing with the Stars.” This event is a fu
 ndraiser for Special Olympics North Dakota (SOND) and will feature area ce
 lebrities paired with local dance instructors.  Each couple will perform a
  dance of their choice.\n\nTickets are $30 each and can be purchased by ca
 lling Special Olympics North Dakota at (701) 746-0331.\n\n<u>Evening Sched
 ule</u>:\nReception (Gallery Area) - 6:15 pm\nShow Time - 7:00 pm\nMeet an
 d Greet with Dancers (following the show)\n
X-WR-RELCALID:7d8254ecc8945d82f1a6d16f4d22f6bb
X-WR-TIMEZONE:America/Chicago
BEGIN:VTIMEZONE
TZID:America/Chicago
BEGIN:STANDARD
TZNAME:CST
DTSTART:20191103T020000
TZOFFSETFROM:-0500
TZOFFSETTO:-0600
RDATE:20201101T020000
RDATE:20211107T020000
END:STANDARD
BEGIN:DAYLIGHT
TZNAME:CDT
DTSTART:20200308T020000
TZOFFSETFROM:-0600
TZOFFSETTO:-0500
RDATE:20210314T020000
END:DAYLIGHT
END:VTIMEZONE
BEGIN:VEVENT
UID:b57a9ecd-ece4-44e7-a82f-721dcc20b2a1
DTSTAMP:20260422T231612Z
DESCRIPTION:Join us for the 11th annual Dancing for Special Stars event in 
 Grand Forks! “Dancing for Special Stars” is a dance contest patterned afte
 r the hit television program “Dancing with the Stars.” This event is a fun
 draiser for Special Olympics North Dakota (SOND) and will feature area cel
 ebrities paired with local dance instructors.  Each couple will perform a 
 dance of their choice.\n\nTickets are $30 each and can be purchased by cal
 ling Special Olympics North Dakota at (701) 746-0331.\n\n<u>Evening Schedu
 le</u>:\nReception (Gallery Area) - 6:15 pm\nShow Time - 7:00 pm\nMeet and
  Greet with Dancers (following the show)\n
DTSTART;TZID=America/Chicago:20200801T190000
DTEND;TZID=America/Chicago:20200801T210000
LOCATION:Empire Arts Center\, Grand Forks\, ND
SUMMARY:Dancing for Special Stars
END:VEVENT
END:VCALENDAR
