BEGIN:VCALENDAR
VERSION:2.0
PRODID:-//specialolympicsnd.org//NONSGML kigkonsult.se iCalcreator 2.30.10/
 /
CALSCALE:GREGORIAN
METHOD:PUBLISH
UID:3f711266-5183-42bc-a4fb-9b53aec47e3b
X-WR-CALDESC:
X-WR-RELCALID:0cfb6c420f83ae1fb9cd788b4bff5fec
X-WR-TIMEZONE:America/Chicago
BEGIN:VTIMEZONE
TZID:America/Chicago
BEGIN:STANDARD
TZNAME:CST
DTSTART:20191103T020000
TZOFFSETFROM:-0500
TZOFFSETTO:-0600
RDATE:20201101T020000
RDATE:20211107T020000
END:STANDARD
BEGIN:DAYLIGHT
TZNAME:CDT
DTSTART:20200308T020000
TZOFFSETFROM:-0600
TZOFFSETTO:-0500
RDATE:20210314T020000
END:DAYLIGHT
END:VTIMEZONE
BEGIN:VEVENT
UID:8d8c14c8-fcc5-4e56-9613-6d926dd03bf1
DTSTAMP:20260422T231642Z
DESCRIPTION:
DTSTART;TZID=America/Chicago:20200723T000000
DTEND;TZID=America/Chicago:20200723T235900
LOCATION:
SUMMARY:Golf Classic - Grand Forks
END:VEVENT
END:VCALENDAR
