BEGIN:VCALENDAR
VERSION:2.0
PRODID:-//specialolympicsnd.org//NONSGML kigkonsult.se iCalcreator 2.30.10/
 /
CALSCALE:GREGORIAN
METHOD:PUBLISH
UID:4e12f5b8-1832-4e59-bf8c-913baf1e675d
X-WR-CALDESC:
X-WR-RELCALID:ee7ca951b992bed193c944934e34e9b1
X-WR-TIMEZONE:America/Chicago
BEGIN:VTIMEZONE
TZID:America/Chicago
BEGIN:STANDARD
TZNAME:CST
DTSTART:20191103T020000
TZOFFSETFROM:-0500
TZOFFSETTO:-0600
RDATE:20201101T020000
RDATE:20211107T020000
END:STANDARD
BEGIN:DAYLIGHT
TZNAME:CDT
DTSTART:20200308T020000
TZOFFSETFROM:-0600
TZOFFSETTO:-0500
RDATE:20210314T020000
END:DAYLIGHT
END:VTIMEZONE
BEGIN:VEVENT
UID:0471b7f5-0747-47b5-b11c-0a76dd94d078
DTSTAMP:20260422T231531Z
DESCRIPTION:
DTSTART;TZID=America/Chicago:20200713T000000
DTEND;TZID=America/Chicago:20200713T235900
LOCATION:
SUMMARY:Golf Classic - Minot
END:VEVENT
END:VCALENDAR
