BEGIN:VCALENDAR
VERSION:2.0
PRODID:-//specialolympicsnd.org//NONSGML kigkonsult.se iCalcreator 2.30.10/
 /
CALSCALE:GREGORIAN
METHOD:PUBLISH
UID:9d9af916-a4ea-4f7f-b761-611fa1b66acf
X-WR-CALDESC:Today is the last day to submit your Virtual Summer Games Scor
 es!
X-WR-RELCALID:056f45aa73116ff02a5f4371591c8424
X-WR-TIMEZONE:America/Chicago
BEGIN:VTIMEZONE
TZID:America/Chicago
BEGIN:STANDARD
TZNAME:CST
DTSTART:20191103T020000
TZOFFSETFROM:-0500
TZOFFSETTO:-0600
RDATE:20201101T020000
RDATE:20211107T020000
END:STANDARD
BEGIN:DAYLIGHT
TZNAME:CDT
DTSTART:20200308T020000
TZOFFSETFROM:-0600
TZOFFSETTO:-0500
RDATE:20210314T020000
END:DAYLIGHT
END:VTIMEZONE
BEGIN:VEVENT
UID:6443b39a-5d87-446b-9f36-2eb0d123e604
DTSTAMP:20260422T231729Z
DESCRIPTION:Today is the last day to submit your Virtual Summer Games Score
 s!
DTSTART;TZID=America/Chicago:20200601T000000
DTEND;TZID=America/Chicago:20200601T235900
LOCATION:
SUMMARY:Deadline to submit Virtual Summer Games results
END:VEVENT
END:VCALENDAR
