BEGIN:VCALENDAR
VERSION:2.0
PRODID:-//specialolympicsnd.org//NONSGML kigkonsult.se iCalcreator 2.30.10/
 /
CALSCALE:GREGORIAN
METHOD:PUBLISH
UID:82e16739-d8fd-4cb2-a7bf-6bbeb45b6181
X-WR-CALDESC:
X-WR-RELCALID:d24f536521fbfd3d9769983d1dfc0833
X-WR-TIMEZONE:America/Chicago
BEGIN:VTIMEZONE
TZID:America/Chicago
BEGIN:STANDARD
TZNAME:CST
DTSTART:20191103T020000
TZOFFSETFROM:-0500
TZOFFSETTO:-0600
RDATE:20201101T020000
END:STANDARD
BEGIN:DAYLIGHT
TZNAME:CDT
DTSTART:20200308T020000
TZOFFSETFROM:-0600
TZOFFSETTO:-0500
RDATE:20210314T020000
END:DAYLIGHT
END:VTIMEZONE
BEGIN:VEVENT
UID:1d105966-256a-4baf-8c35-badbf04af2d4
DTSTAMP:20260422T231736Z
DESCRIPTION:
DTSTART;TZID=America/Chicago:20200321T000000
DTEND;TZID=America/Chicago:20200321T235900
LOCATION:Delta Hotels Fargo
SUMMARY:Polar Plunge - Fargo - Postponed
END:VEVENT
END:VCALENDAR
