BEGIN:VCALENDAR
VERSION:2.0
PRODID:-//specialolympicsnd.org//NONSGML kigkonsult.se iCalcreator 2.30.10/
 /
CALSCALE:GREGORIAN
METHOD:PUBLISH
UID:149cf665-f1f8-4808-8d3b-dbb997a1853e
X-WR-CALDESC:
X-WR-RELCALID:bb2bcfd24519f902ddd1716911d87b98
X-WR-TIMEZONE:America/Chicago
BEGIN:VTIMEZONE
TZID:America/Chicago
BEGIN:STANDARD
TZNAME:CST
DTSTART:20191103T020000
TZOFFSETFROM:-0500
TZOFFSETTO:-0600
RDATE:20201101T020000
END:STANDARD
BEGIN:DAYLIGHT
TZNAME:CDT
DTSTART:20200308T020000
TZOFFSETFROM:-0600
TZOFFSETTO:-0500
RDATE:20210314T020000
END:DAYLIGHT
END:VTIMEZONE
BEGIN:VEVENT
UID:04bafd9f-52ce-4bc8-8b04-70a83ce1f15b
DTSTAMP:20260422T231735Z
DESCRIPTION:
DTSTART;TZID=America/Chicago:20200321T000000
DTEND;TZID=America/Chicago:20200321T235900
LOCATION:Elks Lodge
SUMMARY:Polar Plunge - Bismarck - Postponed
END:VEVENT
END:VCALENDAR
