BEGIN:VCALENDAR
VERSION:2.0
PRODID:-//specialolympicsnd.org//NONSGML kigkonsult.se iCalcreator 2.30.10/
 /
CALSCALE:GREGORIAN
METHOD:PUBLISH
UID:bb7e3da0-b822-44f1-b669-ba24a780c495
X-WR-CALDESC:
X-WR-RELCALID:f99dfa361bf567d83ff27ebc055d7ee1
X-WR-TIMEZONE:America/Chicago
BEGIN:VTIMEZONE
TZID:America/Chicago
BEGIN:STANDARD
TZNAME:CST
DTSTART:20191103T020000
TZOFFSETFROM:-0500
TZOFFSETTO:-0600
RDATE:20201101T020000
END:STANDARD
BEGIN:DAYLIGHT
TZNAME:CDT
DTSTART:20200308T020000
TZOFFSETFROM:-0600
TZOFFSETTO:-0500
RDATE:20210314T020000
END:DAYLIGHT
END:VTIMEZONE
BEGIN:VEVENT
UID:7452693a-6d41-41d0-8b1f-0617ebf0c590
DTSTAMP:20260422T231637Z
DESCRIPTION:
DTSTART;TZID=America/Chicago:20200315T000000
DTEND;TZID=America/Chicago:20200315T235900
LOCATION:Sleep Inn & Suites
SUMMARY:Polar Plunge - Minot
END:VEVENT
END:VCALENDAR
