BEGIN:VCALENDAR
VERSION:2.0
PRODID:-//specialolympicsnd.org//NONSGML kigkonsult.se iCalcreator 2.30.10/
 /
CALSCALE:GREGORIAN
METHOD:PUBLISH
UID:8e48565e-bfed-4273-9dcc-ec8dd602c66c
X-WR-CALDESC:
X-WR-RELCALID:9137fc3dd285d8a6d286c7dc76356ff3
X-WR-TIMEZONE:America/Chicago
BEGIN:VTIMEZONE
TZID:America/Chicago
BEGIN:STANDARD
TZNAME:CST
DTSTART:20191103T020000
TZOFFSETFROM:-0500
TZOFFSETTO:-0600
RDATE:20201101T020000
END:STANDARD
BEGIN:DAYLIGHT
TZNAME:CDT
DTSTART:20190310T020000
TZOFFSETFROM:-0600
TZOFFSETTO:-0500
RDATE:20200308T020000
RDATE:20210314T020000
END:DAYLIGHT
END:VTIMEZONE
BEGIN:VEVENT
UID:faad6c48-24fd-461e-94ee-0bfa9a0bd810
DTSTAMP:20260422T231642Z
DESCRIPTION:
DTSTART;TZID=America/Chicago:20200307T000000
DTEND;TZID=America/Chicago:20200307T235900
LOCATION:Prairie Hills Mall
SUMMARY:Polar Plunge - Dickinson
END:VEVENT
END:VCALENDAR
