BEGIN:VCALENDAR
VERSION:2.0
PRODID:-//specialolympicsnd.org//NONSGML kigkonsult.se iCalcreator 2.30.10/
 /
CALSCALE:GREGORIAN
METHOD:PUBLISH
UID:b69e3e34-3cff-4f26-b3cc-195216776305
X-WR-CALDESC:
X-WR-RELCALID:eb263b10cbb82e0880c66433ab74ef9b
X-WR-TIMEZONE:America/Chicago
BEGIN:VTIMEZONE
TZID:America/Chicago
BEGIN:STANDARD
TZNAME:CST
DTSTART:20191103T020000
TZOFFSETFROM:-0500
TZOFFSETTO:-0600
RDATE:20201101T020000
END:STANDARD
BEGIN:DAYLIGHT
TZNAME:CDT
DTSTART:20190310T020000
TZOFFSETFROM:-0600
TZOFFSETTO:-0500
RDATE:20200308T020000
RDATE:20210314T020000
END:DAYLIGHT
END:VTIMEZONE
BEGIN:VEVENT
UID:e615784f-70ed-4840-8ba4-db12e7a1ae5a
DTSTAMP:20260422T231754Z
DESCRIPTION:
DTSTART;TZID=America/Chicago:20200228T080000
DTEND;TZID=America/Chicago:20200229T160000
LOCATION:MSU Dome\, Minot\, ND
SUMMARY:2020 State Basketball Tournament
END:VEVENT
END:VCALENDAR
