BEGIN:VCALENDAR
VERSION:2.0
PRODID:-//specialolympicsnd.org//NONSGML kigkonsult.se iCalcreator 2.30.10/
 /
CALSCALE:GREGORIAN
METHOD:PUBLISH
UID:a9dcc0ac-0e8e-4199-905f-f69229153735
X-WR-CALDESC:
X-WR-RELCALID:57499fdd2fb467f0c74091c29b55b4cd
X-WR-TIMEZONE:America/Chicago
BEGIN:VTIMEZONE
TZID:America/Chicago
BEGIN:STANDARD
TZNAME:CST
DTSTART:20191103T020000
TZOFFSETFROM:-0500
TZOFFSETTO:-0600
RDATE:20201101T020000
END:STANDARD
BEGIN:DAYLIGHT
TZNAME:CDT
DTSTART:20190310T020000
TZOFFSETFROM:-0600
TZOFFSETTO:-0500
RDATE:20200308T020000
RDATE:20210314T020000
END:DAYLIGHT
END:VTIMEZONE
BEGIN:VEVENT
UID:6cba98f3-5c3c-4eab-a8e2-2587598246bd
DTSTAMP:20260422T231744Z
DESCRIPTION:
DTSTART;TZID=America/Chicago:20200222T000000
DTEND;TZID=America/Chicago:20200222T235900
LOCATION:Choice Health and Fitness
SUMMARY:Polar Plunge - Grand Forks
END:VEVENT
END:VCALENDAR
