BEGIN:VCALENDAR
VERSION:2.0
PRODID:-//specialolympicsnd.org//NONSGML kigkonsult.se iCalcreator 2.30.10/
 /
CALSCALE:GREGORIAN
METHOD:PUBLISH
UID:9ae87e52-dd44-4be5-973e-df09188d7afd
X-WR-CALDESC:
X-WR-RELCALID:34f8141d1abf2367696d2ff54dcad3de
X-WR-TIMEZONE:America/Chicago
BEGIN:VTIMEZONE
TZID:America/Chicago
BEGIN:STANDARD
TZNAME:CST
DTSTART:20191103T020000
TZOFFSETFROM:-0500
TZOFFSETTO:-0600
RDATE:20201101T020000
END:STANDARD
BEGIN:DAYLIGHT
TZNAME:CDT
DTSTART:20190310T020000
TZOFFSETFROM:-0600
TZOFFSETTO:-0500
RDATE:20200308T020000
RDATE:20210314T020000
END:DAYLIGHT
END:VTIMEZONE
BEGIN:VEVENT
UID:bc3039a2-e1aa-4ce2-9ee1-fec5310cf148
DTSTAMP:20260422T231637Z
DESCRIPTION:
DTSTART;TZID=America/Chicago:20200213T000000
DTEND;TZID=America/Chicago:20200213T235900
LOCATION:Online Event
SUMMARY:Giving Hearts Day
END:VEVENT
END:VCALENDAR
