BEGIN:VCALENDAR
VERSION:2.0
PRODID:-//specialolympicsnd.org//NONSGML kigkonsult.se iCalcreator 2.30.10/
 /
CALSCALE:GREGORIAN
METHOD:PUBLISH
UID:f5d631ae-fd6b-4381-a8aa-d884308adaed
X-WR-CALDESC:
X-WR-RELCALID:3e0f57603a241f73b35b12056805c91a
X-WR-TIMEZONE:America/Chicago
BEGIN:VTIMEZONE
TZID:America/Chicago
BEGIN:STANDARD
TZNAME:CST
DTSTART:20191103T020000
TZOFFSETFROM:-0500
TZOFFSETTO:-0600
RDATE:20201101T020000
END:STANDARD
BEGIN:DAYLIGHT
TZNAME:CDT
DTSTART:20190310T020000
TZOFFSETFROM:-0600
TZOFFSETTO:-0500
RDATE:20200308T020000
RDATE:20210314T020000
END:DAYLIGHT
END:VTIMEZONE
BEGIN:VEVENT
UID:48d77b09-59c7-4d48-a2ec-4d7f435cbb3b
DTSTAMP:20260422T231531Z
DESCRIPTION:
DTSTART;TZID=America/Chicago:20200212T000000
DTEND;TZID=America/Chicago:20200212T235900
LOCATION:
SUMMARY:A Special Night Out
END:VEVENT
END:VCALENDAR
