BEGIN:VCALENDAR
VERSION:2.0
PRODID:-//specialolympicsnd.org//NONSGML kigkonsult.se iCalcreator 2.30.10/
 /
CALSCALE:GREGORIAN
METHOD:PUBLISH
UID:c64350e8-8bce-4747-9aa1-e5fce3cde10e
X-WR-CALDESC:
X-WR-RELCALID:5b4ac200f84c4cd377f719b8506dcf26
X-WR-TIMEZONE:America/Chicago
BEGIN:VTIMEZONE
TZID:America/Chicago
BEGIN:STANDARD
TZNAME:CST
DTSTART:20191103T020000
TZOFFSETFROM:-0500
TZOFFSETTO:-0600
RDATE:20201101T020000
END:STANDARD
BEGIN:DAYLIGHT
TZNAME:CDT
DTSTART:20190310T020000
TZOFFSETFROM:-0600
TZOFFSETTO:-0500
RDATE:20200308T020000
RDATE:20210314T020000
END:DAYLIGHT
END:VTIMEZONE
BEGIN:VEVENT
UID:91177958-a749-4eff-b06b-836b6d7270c0
DTSTAMP:20260422T231535Z
DESCRIPTION:
DTSTART;TZID=America/Chicago:20200117T000000
DTEND;TZID=America/Chicago:20200118T235900
LOCATION:
SUMMARY:State Winter Games
END:VEVENT
END:VCALENDAR
