BEGIN:VCALENDAR
VERSION:2.0
PRODID:-//specialolympicsnd.org//NONSGML kigkonsult.se iCalcreator 2.30.10/
 /
CALSCALE:GREGORIAN
METHOD:PUBLISH
UID:106e0952-2cd5-4375-a223-c2b559a60798
X-WR-CALDESC:
X-WR-RELCALID:41752e93ffe1f712642f8e49d460e12e
X-WR-TIMEZONE:America/Chicago
BEGIN:VTIMEZONE
TZID:America/Chicago
BEGIN:STANDARD
TZNAME:CST
DTSTART:20191103T020000
TZOFFSETFROM:-0500
TZOFFSETTO:-0600
RDATE:20201101T020000
END:STANDARD
BEGIN:DAYLIGHT
TZNAME:CDT
DTSTART:20190310T020000
TZOFFSETFROM:-0600
TZOFFSETTO:-0500
RDATE:20200308T020000
RDATE:20210314T020000
END:DAYLIGHT
END:VTIMEZONE
BEGIN:VEVENT
UID:90b7ccc2-55cf-48de-bb74-41677273f986
DTSTAMP:20260422T231631Z
DESCRIPTION:
DTSTART;TZID=America/Chicago:20200111T000000
DTEND;TZID=America/Chicago:20200111T235900
LOCATION:Concordia College- Moorhead\,MN
SUMMARY:Track and Field Coaches training
END:VEVENT
END:VCALENDAR
