BEGIN:VCALENDAR
VERSION:2.0
PRODID:-//specialolympicsnd.org//NONSGML kigkonsult.se iCalcreator 2.30.10/
 /
CALSCALE:GREGORIAN
METHOD:PUBLISH
UID:60671f7b-344d-4d98-9382-f50b0eeb12ff
X-WR-CALDESC:November 9-10 in Mandan\, ND
X-WR-RELCALID:eebf59d0f46cdebac6f29d83b1a4bf31
X-WR-TIMEZONE:America/Chicago
BEGIN:VTIMEZONE
TZID:America/Chicago
BEGIN:STANDARD
TZNAME:CST
DTSTART:20191103T020000
TZOFFSETFROM:-0500
TZOFFSETTO:-0600
RDATE:20201101T020000
END:STANDARD
BEGIN:DAYLIGHT
TZNAME:CDT
DTSTART:20190310T020000
TZOFFSETFROM:-0600
TZOFFSETTO:-0500
RDATE:20200308T020000
RDATE:20210314T020000
END:DAYLIGHT
END:VTIMEZONE
BEGIN:VEVENT
UID:985d2354-6f35-4ac8-a8f8-bb35aac93ff0
DTSTAMP:20260424T040913Z
DESCRIPTION:November 9-10 in Mandan\, ND
DTSTART;TZID=America/Chicago:20191109T000000
DTEND;TZID=America/Chicago:20191111T235900
LOCATION:Midway Lanes\, Mandan\, ND
SUMMARY:State Bowling Tournament
END:VEVENT
END:VCALENDAR
